BEGIN:VCALENDAR
VERSION:2.0
METHOD:PUBLISH
PRODID:-//ActiveDataExchange/NEXTGEN V1//EN
BEGIN:VEVENT
ORGANIZER:mailto:jag2466@nau.edu
DTSTART:20260423T000000Z
DTEND:20260423T020000Z
DTSTAMP:20260420T184419Z
LOCATION:Cline Library (28) 1001 S Knoles DR Flagstaff AZ 86011
SUMMARY:Day 2 of 2026 Philo- The Roast of Theta Chi
DESCRIPTION:From 5-7 in Cline Library, we will be hosting the Roast of T
 heta Chi. There will be 6 brothers up on stage\nView the full event details here: https://events.nau.edu/event/day-2-of-2026-philo--the-roast-of-theta-chi/
CATEGORIES:Student Club, Student Life
CONTACT:Jordan Graham,jag2466@nau.edu
CLASS:PUBLIC
UID:B8C4263E-8CCC-4844-ACB0-8F2314492F89
BEGIN:VALARM
TRIGGER:-PT15M
ACTION:DISPLAY
DESCRIPTION:Day 2 of 2026 Philo- The Roast of Theta Chi
END:VALARM
END:VEVENT
END:VCALENDAR
